BEGIN:VCALENDAR
VERSION:2.0
PRODID:-//Thrive Counseling Services LLC - ECPv6.15.20//NONSGML v1.0//EN
CALSCALE:GREGORIAN
METHOD:PUBLISH
X-ORIGINAL-URL:https://thrivecounselingservicescheyenne.com
X-WR-CALDESC:Events for Thrive Counseling Services LLC
REFRESH-INTERVAL;VALUE=DURATION:PT1H
X-Robots-Tag:noindex
X-PUBLISHED-TTL:PT1H
BEGIN:VTIMEZONE
TZID:UTC
BEGIN:STANDARD
TZOFFSETFROM:+0000
TZOFFSETTO:+0000
TZNAME:UTC
DTSTART:20230101T000000
END:STANDARD
END:VTIMEZONE
BEGIN:VEVENT
DTSTART;TZID=UTC:20240715T140000
DTEND;TZID=UTC:20240715T140000
DTSTAMP:20260422T104610
CREATED:20240408T190549Z
LAST-MODIFIED:20240408T190549Z
UID:2850-1721052000-1721052000@thrivecounselingservicescheyenne.com
SUMMARY:Peer Support Group
DESCRIPTION:
URL:https://thrivecounselingservicescheyenne.com/groupscalendar/peer-support-group-14/
END:VEVENT
END:VCALENDAR